BEGIN:VCALENDAR
VERSION:2.0
PRODID:-//DREAM Adaptive Recreation - ECPv6.15.20//NONSGML v1.0//EN
CALSCALE:GREGORIAN
METHOD:PUBLISH
X-ORIGINAL-URL:https://dreamadaptive.org
X-WR-CALDESC:Events for DREAM Adaptive Recreation
REFRESH-INTERVAL;VALUE=DURATION:PT1H
X-Robots-Tag:noindex
X-PUBLISHED-TTL:PT1H
BEGIN:VTIMEZONE
TZID:America/Denver
BEGIN:DAYLIGHT
TZOFFSETFROM:-0700
TZOFFSETTO:-0600
TZNAME:MDT
DTSTART:20250309T090000
END:DAYLIGHT
BEGIN:STANDARD
TZOFFSETFROM:-0600
TZOFFSETTO:-0700
TZNAME:MST
DTSTART:20251102T080000
END:STANDARD
BEGIN:DAYLIGHT
TZOFFSETFROM:-0700
TZOFFSETTO:-0600
TZNAME:MDT
DTSTART:20260308T090000
END:DAYLIGHT
BEGIN:STANDARD
TZOFFSETFROM:-0600
TZOFFSETTO:-0700
TZNAME:MST
DTSTART:20261101T080000
END:STANDARD
BEGIN:DAYLIGHT
TZOFFSETFROM:-0700
TZOFFSETTO:-0600
TZNAME:MDT
DTSTART:20270314T090000
END:DAYLIGHT
BEGIN:STANDARD
TZOFFSETFROM:-0600
TZOFFSETTO:-0700
TZNAME:MST
DTSTART:20271107T080000
END:STANDARD
END:VTIMEZONE
BEGIN:VEVENT
DTSTART;TZID=America/Denver:20260511T170000
DTEND;TZID=America/Denver:20260511T190000
DTSTAMP:20260421T152602
CREATED:20260415T191920Z
LAST-MODIFIED:20260415T192109Z
UID:12269-1778518800-1778526000@dreamadaptive.org
SUMMARY:Summer Volunteer Kick Off Party
DESCRIPTION:Monday May 11th \n5pm – 7pm \nBlackstar \nFirst beverage is on DREAM. \nStop by to say hello\, meet the team\, or to learn more about volunteering. \nAny volunteers who have completed their required computer based training will be eligible for some DREAM Swag!
URL:https://dreamadaptive.org/event-view/summer-volunteer-kick-off-party/
LOCATION:BlackStar\, 2nd Central Ave\, Whitefish\, Montana\, 59937
CATEGORIES:Featured Event,Volunteer Opportunity
ATTACH;FMTTYPE=image/jpeg:https://dreamadaptive.org/wp-content/uploads/2026/04/583ba400-bed7-4402-be5e-ca1ee4e7045c-scaled.jpg
END:VEVENT
BEGIN:VEVENT
DTSTART;TZID=America/Denver:20260523T073000
DTEND;TZID=America/Denver:20260523T150000
DTSTAMP:20260421T152602
CREATED:20260415T184222Z
LAST-MODIFIED:20260415T184222Z
UID:12257-1779521400-1779548400@dreamadaptive.org
SUMMARY:Going to the Sun Ride
DESCRIPTION:Join DREAM early this summer for a true bucket list experience: riding Going to the Sun Road in Glacier National Park before the road opens to cars. \nIt’s an early morning start at 7am at Avalanche Trailhead.  Comprehensive packing lists and instructions for park entrance will be sent out 1 week prior to the program date. \nRegistration is required\, this program fills quickly and bikes will be assigned on a first come\, first serve basis. \n 
URL:https://dreamadaptive.org/event-view/going-to-the-sun-ride/
LOCATION:Glacier National Park
CATEGORIES:Featured Event,Military,Program,Summer Programs,Volunteer Opportunity
ATTACH;FMTTYPE=image/jpeg:https://dreamadaptive.org/wp-content/uploads/2026/04/e278f410-3b09-4b64-a288-e7893ee5b941-scaled.jpg
END:VEVENT
BEGIN:VEVENT
DTSTART;TZID=America/Denver:20260531T073000
DTEND;TZID=America/Denver:20260531T150000
DTSTAMP:20260421T152602
CREATED:20260415T184649Z
LAST-MODIFIED:20260415T184649Z
UID:12263-1780212600-1780239600@dreamadaptive.org
SUMMARY:Going to the Sun Ride
DESCRIPTION:Join DREAM early this summer for a true bucket list experience: riding Going to the Sun Road in Glacier National Park before the road opens to cars. \nIt’s an early morning start at 7am at Avalanche Trailhead.  Comprehensive packing lists and instructions for park entrance will be sent out 1 week prior to the program date. \nRegistration is required\, this program fills quickly and bikes will be assigned on a first come\, first serve basis.
URL:https://dreamadaptive.org/event-view/going-to-the-sun-ride-2/
LOCATION:Glacier National Park
CATEGORIES:Featured Event,Military,Program,Program Registration,Summer Programs,Volunteer Opportunity
ATTACH;FMTTYPE=image/jpeg:https://dreamadaptive.org/wp-content/uploads/2026/04/eea5811e-d4c4-4741-8a95-be99728967ac-scaled.jpg
END:VEVENT
BEGIN:VEVENT
DTSTART;VALUE=DATE:20260609
DTEND;VALUE=DATE:20260611
DTSTAMP:20260421T152602
CREATED:20260415T193228Z
LAST-MODIFIED:20260415T193228Z
UID:12273-1780963200-1781135999@dreamadaptive.org
SUMMARY:Empower SCI
DESCRIPTION:Empower SCI offers a transformative experience for adults with spinal cord injuries\, bringing people together from across the country to provide a residential rehabilitation experience like no other. \nAbove all else\, Empower SCI provides a safe space to learn and grow\, and a family of peers and volunteers that soon become life-long friends. \nDREAM staff helps support this mission and the week of empowerment at multiple locations throughout the week. \nRegistration is through Empower SCI for this program\, thank you!
URL:https://dreamadaptive.org/event-view/empower-sci/
LOCATION:MT
CATEGORIES:Community Outreach,Program
ATTACH;FMTTYPE=image/jpeg:https://dreamadaptive.org/wp-content/uploads/2026/04/bac8c1d1-5b8e-4b5a-a4c7-5f36cd4f486d-scaled.jpg
END:VEVENT
BEGIN:VEVENT
DTSTART;TZID=America/Denver:20260612T073000
DTEND;TZID=America/Denver:20260612T150000
DTSTAMP:20260421T152602
CREATED:20260415T185206Z
LAST-MODIFIED:20260415T185254Z
UID:12266-1781249400-1781276400@dreamadaptive.org
SUMMARY:Going to the Sun Ride
DESCRIPTION:Join DREAM early this summer for a true bucket list experience: riding Going to the Sun Road in Glacier National Park before the road opens to cars. \nIt’s an early morning start at 7am at Avalanche Trailhead.  Comprehensive packing lists and instructions for park entrance will be sent out 1 week prior to the program date. \nRegistration is required\, this program fills quickly and bikes will be assigned on a first come\, first serve basis.
URL:https://dreamadaptive.org/event-view/going-to-the-sun-ride-3/
LOCATION:Glacier National Park
CATEGORIES:Featured Event,Military,Program,Program Registration,Summer Programs,Volunteer Opportunity
ATTACH;FMTTYPE=image/jpeg:https://dreamadaptive.org/wp-content/uploads/2026/04/e5bddbfa-393f-424f-8043-8489a5bb7591-scaled.jpg
END:VEVENT
BEGIN:VEVENT
DTSTART;TZID=America/Denver:20260617T170000
DTEND;TZID=America/Denver:20260617T183000
DTSTAMP:20260421T152602
CREATED:20260415T202518Z
LAST-MODIFIED:20260415T202540Z
UID:12286-1781715600-1781721000@dreamadaptive.org
SUMMARY:Paved Path Group Bike Ride
DESCRIPTION:DREAM is so excited to offer a paved path cycling program. \nThis program is open to individuals with a permanent disability who’d like to get out and ride with others. \nDREAM will offer four organized Paved Path Group Bikes Rides during the summer of 2026. \nRegistration for the group rides is required.
URL:https://dreamadaptive.org/event-view/paved-path-bike-ride/
LOCATION:Logan Health North Valley Hospital Parking Lot\, Whitefish
CATEGORIES:Featured Event,Military,Program,Program Registration,Summer Programs,Volunteer Opportunity
ATTACH;FMTTYPE=image/jpeg:https://dreamadaptive.org/wp-content/uploads/2026/04/5cac5f1e-be43-4688-84e9-95a4649e7024-scaled.jpg
END:VEVENT
BEGIN:VEVENT
DTSTART;TZID=America/Denver:20260619T100000
DTEND;TZID=America/Denver:20260619T120000
DTSTAMP:20260421T152602
CREATED:20260415T205909Z
LAST-MODIFIED:20260415T205909Z
UID:12304-1781863200-1781870400@dreamadaptive.org
SUMMARY:Paddle Day
DESCRIPTION:Paddle days at DREAM are a great way to learn a new activity or paddle around the beautiful lakes. \nAll adaptive and standard equipment is provided for participants. \nPaddle days occur at Whitefish Lake\, Flathead Lake\, and Lake McDonald throughout the summer from 10am -12pm. \nRegistration is required for paddle days.
URL:https://dreamadaptive.org/event-view/paddle-day/
LOCATION:Whitefish City Beach\, 30 Lakeside Blvd\, Whitefish\, MT\, 59937\, United States
CATEGORIES:Featured Event,Military,Program,Program Registration,Summer Programs,Volunteer Opportunity
ATTACH;FMTTYPE=image/jpeg:https://dreamadaptive.org/wp-content/uploads/2026/04/bf9d5c77-a84d-4cb7-93c3-1473abc8ff04-scaled.jpg
END:VEVENT
BEGIN:VEVENT
DTSTART;TZID=America/Denver:20260626T100000
DTEND;TZID=America/Denver:20260626T120000
DTSTAMP:20260421T152602
CREATED:20260415T210441Z
LAST-MODIFIED:20260415T211307Z
UID:12307-1782468000-1782475200@dreamadaptive.org
SUMMARY:Paddle Day
DESCRIPTION:Paddle days at DREAM are a great way to learn a new activity or paddle around the beautiful lakes. \nAll adaptive and standard equipment is provided for participants. \nPaddle days occur at Whitefish Lake\, Flathead Lake\, and Lake McDonald throughout the summer from 10am -12pm. \nRegistration is required for paddle days.
URL:https://dreamadaptive.org/event-view/paddle-day-2/
LOCATION:Sommers Bay Boat Dock\, Sommers\, MT\, 59932\, United States
CATEGORIES:Featured Event,Military,Program,Program Registration,Summer Programs,Volunteer Opportunity
ATTACH;FMTTYPE=image/jpeg:https://dreamadaptive.org/wp-content/uploads/2026/04/bd045321-1fc8-438a-910e-bd0668ff97ba-scaled.jpg
END:VEVENT
BEGIN:VEVENT
DTSTART;TZID=America/Denver:20260630T180000
DTEND;TZID=America/Denver:20260630T200000
DTSTAMP:20260421T152602
CREATED:20260415T200431Z
LAST-MODIFIED:20260415T200431Z
UID:12276-1782842400-1782849600@dreamadaptive.org
SUMMARY:Mountain Bike Group Ride
DESCRIPTION:Join DREAM staff\, volunteers\, and other community members for group rides at various locations around the Flathead Valley! \nIt’s a fun way to meet new people and share the joy of riding a bike in the great outdoors. \nLocation: Harrell Forest \nRegistration is required for this event.
URL:https://dreamadaptive.org/event-view/mountain-bike-group-ride/
LOCATION:Harrell Forest
CATEGORIES:Featured Event,Military,Program,Program Registration,Summer Programs,Volunteer Opportunity
ATTACH;FMTTYPE=image/jpeg:https://dreamadaptive.org/wp-content/uploads/2026/04/e1bf5d08-ece9-471d-aa3f-c9dc48a224b4-scaled.jpg
END:VEVENT
BEGIN:VEVENT
DTSTART;TZID=America/Denver:20260707T170000
DTEND;TZID=America/Denver:20260707T183000
DTSTAMP:20260421T152602
CREATED:20260415T203248Z
LAST-MODIFIED:20260415T203248Z
UID:12291-1783443600-1783449000@dreamadaptive.org
SUMMARY:Paved Path Group Bike Ride
DESCRIPTION:DREAM is so excited to offer a paved path cycling program. \nThis program is open to individuals with a permanent disability who’d like to get out and ride with others. \nDREAM will offer four organized Paved Path Group Bikes Rides during the summer of 2026. \nRegistration for the group rides is required.
URL:https://dreamadaptive.org/event-view/paved-path-group-bike-ride/
LOCATION:Logan Health North Valley Hospital Parking Lot\, Whitefish
CATEGORIES:Featured Event,Military,Program,Program Registration,Summer Programs,Volunteer Opportunity
ATTACH;FMTTYPE=image/jpeg:https://dreamadaptive.org/wp-content/uploads/2026/04/5c010010-65ca-4692-a375-f3632a780878-scaled.jpg
END:VEVENT
BEGIN:VEVENT
DTSTART;TZID=America/Denver:20260710T100000
DTEND;TZID=America/Denver:20260710T120000
DTSTAMP:20260421T152602
CREATED:20260415T210637Z
LAST-MODIFIED:20260415T210637Z
UID:12312-1783677600-1783684800@dreamadaptive.org
SUMMARY:Paddle Day
DESCRIPTION:Paddle days at DREAM are a great way to learn a new activity or paddle around the beautiful lakes. \nAll adaptive and standard equipment is provided for participants. \nPaddle days occur at Whitefish Lake\, Flathead Lake\, and Lake McDonald throughout the summer from 10am -12pm. \nRegistration is required for paddle days.
URL:https://dreamadaptive.org/event-view/paddle-day-3/
LOCATION:Whitefish City Beach\, 30 Lakeside Blvd\, Whitefish\, MT\, 59937\, United States
CATEGORIES:Featured Event,Military,Program,Program Registration,Summer Programs,Volunteer Opportunity
ATTACH;FMTTYPE=image/jpeg:https://dreamadaptive.org/wp-content/uploads/2026/04/b1ae9d82-8316-48a5-b72f-9c038e4c4c45-scaled.jpg
END:VEVENT
BEGIN:VEVENT
DTSTART;TZID=America/Denver:20260731T100000
DTEND;TZID=America/Denver:20260731T120000
DTSTAMP:20260421T152602
CREATED:20260415T211210Z
LAST-MODIFIED:20260415T211210Z
UID:12315-1785492000-1785499200@dreamadaptive.org
SUMMARY:Paddle Day
DESCRIPTION:Paddle days at DREAM are a great way to learn a new activity or paddle around the beautiful lakes. \nAll adaptive and standard equipment is provided for participants. \nPaddle days occur at Whitefish Lake\, Flathead Lake\, and Lake McDonald throughout the summer from 10am -12pm. \nRegistration is required for paddle days.
URL:https://dreamadaptive.org/event-view/paddle-day-4/
LOCATION:Sommers Bay Boat Dock\, Sommers\, MT\, 59932\, United States
CATEGORIES:Featured Event,Military,Program,Program Registration,Summer Programs,Volunteer Opportunity
ATTACH;FMTTYPE=image/jpeg:https://dreamadaptive.org/wp-content/uploads/2026/04/ba41bd82-1e12-4cd8-a8e3-16c5e6fb4128-scaled.jpg
END:VEVENT
BEGIN:VEVENT
DTSTART;TZID=America/Denver:20260820T180000
DTEND;TZID=America/Denver:20260820T200000
DTSTAMP:20260421T152602
CREATED:20260415T200714Z
LAST-MODIFIED:20260415T200714Z
UID:12279-1787248800-1787256000@dreamadaptive.org
SUMMARY:Mountain Bike Group Ride
DESCRIPTION:Join DREAM staff\, volunteers\, and other community members for group rides at various locations around the Flathead Valley! \nIt’s a fun way to meet new people and share the joy of riding a bike in the great outdoors. \nLocation: Beaver Lakes \nRegistration is required for this event.
URL:https://dreamadaptive.org/event-view/mountain-bike-group-ride-2/
LOCATION:Beaver Lakes
CATEGORIES:Featured Event,Military,Program,Program Registration,Summer Programs,Volunteer Opportunity
ATTACH;FMTTYPE=image/jpeg:https://dreamadaptive.org/wp-content/uploads/2026/03/e24fc95d-8ef2-4cb1-a86d-a4579817f4ab-scaled-e1774622899387.jpg
END:VEVENT
BEGIN:VEVENT
DTSTART;TZID=America/Denver:20260824T170000
DTEND;TZID=America/Denver:20260824T183000
DTSTAMP:20260421T152602
CREATED:20260415T203928Z
LAST-MODIFIED:20260415T203928Z
UID:12296-1787590800-1787596200@dreamadaptive.org
SUMMARY:Paved Path Group Bike Ride
DESCRIPTION:DREAM is so excited to offer a paved path cycling program. \nThis program is open to individuals with a permanent disability who’d like to get out and ride with others. \nDREAM will offer four organized Paved Path Group Bikes Rides during the summer of 2026. \nRegistration for the group rides is required.
URL:https://dreamadaptive.org/event-view/paved-path-group-bike-ride-2/
LOCATION:Woodland Park\, Conrad Dr & Woodland Ave\, Kalispell\, Montana\, 59901
CATEGORIES:Featured Event,Military,Program,Program Registration,Summer Programs,Volunteer Opportunity
ATTACH;FMTTYPE=image/jpeg:https://dreamadaptive.org/wp-content/uploads/2026/04/50372857-de83-46e5-9b82-e14d5a647f37-scaled.jpg
END:VEVENT
BEGIN:VEVENT
DTSTART;TZID=America/Denver:20260911T173000
DTEND;TZID=America/Denver:20260911T193000
DTSTAMP:20260421T152602
CREATED:20260415T201147Z
LAST-MODIFIED:20260415T201323Z
UID:12283-1789147800-1789155000@dreamadaptive.org
SUMMARY:Mountain Bike Group Ride
DESCRIPTION:Join DREAM staff\, volunteers\, and other community members for group rides at various locations around the Flathead Valley! \nIt’s a fun way to meet new people and share the joy of riding a bike in the great outdoors. \nLocation: Cedar Flats \nRegistration is required for this event.
URL:https://dreamadaptive.org/event-view/mountain-bike-group-ride-3/
LOCATION:Cedar Flats\, Columbia Falls
CATEGORIES:Featured Event,Military,Program,Program Registration,Summer Programs,Volunteer Opportunity
ATTACH;FMTTYPE=image/jpeg:https://dreamadaptive.org/wp-content/uploads/2026/04/e3f310e5-0124-42c4-89ec-fc7bf0088d59-scaled.jpg
END:VEVENT
BEGIN:VEVENT
DTSTART;TZID=America/Denver:20260917T170000
DTEND;TZID=America/Denver:20260917T183000
DTSTAMP:20260421T152602
CREATED:20260415T204340Z
LAST-MODIFIED:20260415T204340Z
UID:12301-1789664400-1789669800@dreamadaptive.org
SUMMARY:Paved Path Group Bike Ride
DESCRIPTION:DREAM is so excited to offer a paved path cycling program. \nThis program is open to individuals with a permanent disability who’d like to get out and ride with others. \nDREAM will offer four organized Paved Path Group Bikes Rides during the summer of 2026. \nRegistration for the group rides is required.
URL:https://dreamadaptive.org/event-view/paved-path-group-bike-ride-3/
LOCATION:Logan Health North Valley Hospital Parking Lot\, Whitefish
CATEGORIES:Featured Event,Military,Program,Program Registration,Summer Programs,Volunteer Opportunity
ATTACH;FMTTYPE=image/jpeg:https://dreamadaptive.org/wp-content/uploads/2026/04/52667c0a-f76d-4427-bff5-c14856bb09a9-scaled.jpg
END:VEVENT
END:VCALENDAR